BEGIN:VCALENDAR
VERSION:2.0
PRODID:-//The Hub on Smith - ECPv6.15.18//NONSGML v1.0//EN
CALSCALE:GREGORIAN
METHOD:PUBLISH
X-WR-CALNAME:The Hub on Smith
X-ORIGINAL-URL:https://thehubsheridan.org
X-WR-CALDESC:Events for The Hub on Smith
REFRESH-INTERVAL;VALUE=DURATION:PT1H
X-Robots-Tag:noindex
X-PUBLISHED-TTL:PT1H
BEGIN:VTIMEZONE
TZID:America/Denver
BEGIN:DAYLIGHT
TZOFFSETFROM:-0700
TZOFFSETTO:-0600
TZNAME:MDT
DTSTART:20250309T090000
END:DAYLIGHT
BEGIN:STANDARD
TZOFFSETFROM:-0600
TZOFFSETTO:-0700
TZNAME:MST
DTSTART:20251102T080000
END:STANDARD
BEGIN:DAYLIGHT
TZOFFSETFROM:-0700
TZOFFSETTO:-0600
TZNAME:MDT
DTSTART:20260308T090000
END:DAYLIGHT
BEGIN:STANDARD
TZOFFSETFROM:-0600
TZOFFSETTO:-0700
TZNAME:MST
DTSTART:20261101T080000
END:STANDARD
BEGIN:DAYLIGHT
TZOFFSETFROM:-0700
TZOFFSETTO:-0600
TZNAME:MDT
DTSTART:20270314T090000
END:DAYLIGHT
BEGIN:STANDARD
TZOFFSETFROM:-0600
TZOFFSETTO:-0700
TZNAME:MST
DTSTART:20271107T080000
END:STANDARD
END:VTIMEZONE
BEGIN:VEVENT
DTSTART;TZID=America/Denver:20260707T130000
DTEND;TZID=America/Denver:20260707T160000
DTSTAMP:20260421T052008
CREATED:20250806T205432Z
LAST-MODIFIED:20250806T205436Z
UID:10027465-1783429200-1783440000@thehubsheridan.org
SUMMARY:Hand & Foot
DESCRIPTION:Tuesdays\, 1:00pm to 4:00pm\, $5 Voluntary Contribution\, Dining Room
URL:https://thehubsheridan.org/event/hand-foot/2026-07-07/
LOCATION:The Hub on Smith\, 211 Smith Street\, Sheridan\, 82801
CATEGORIES:Community,Games,Lifelong Learning,Social
GEO:44.7995429;-106.9585407
X-APPLE-STRUCTURED-LOCATION;VALUE=URI;X-ADDRESS=The Hub on Smith 211 Smith Street Sheridan 82801;X-APPLE-RADIUS=500;X-TITLE=211 Smith Street:geo:-106.9585407,44.7995429
END:VEVENT
BEGIN:VEVENT
DTSTART;TZID=America/Denver:20260708T080000
DTEND;TZID=America/Denver:20260708T090000
DTSTAMP:20260421T052008
CREATED:20260408T155329Z
LAST-MODIFIED:20260408T164316Z
UID:10026204-1783497600-1783501200@thehubsheridan.org
SUMMARY:Happy Feet Cardio Dance
DESCRIPTION:Dance your way to fitness with the fun\, talented Sherry Mercer! Learn coordinated dances\, laugh with friends\, and enjoy yourself. \n\n\n\nMondays & Wednesdays\, 8:00am – 9:00am\, $5 Voluntary Contribution\, Fitness Room
URL:https://thehubsheridan.org/event/happy-feet-cardio-dance-2/2026-07-08/
LOCATION:The Hub on Smith\, 211 Smith Street\, Sheridan\, 82801
CATEGORIES:Community,Health and Fitness,Lifelong Learning,Performing Arts,Social
ATTACH;FMTTYPE=image/jpeg:https://thehubsheridan.org/wp-content/uploads/2025/08/Event-Page-Happy-Feet.jpg
GEO:44.7995429;-106.9585407
X-APPLE-STRUCTURED-LOCATION;VALUE=URI;X-ADDRESS=The Hub on Smith 211 Smith Street Sheridan 82801;X-APPLE-RADIUS=500;X-TITLE=211 Smith Street:geo:-106.9585407,44.7995429
END:VEVENT
BEGIN:VEVENT
DTSTART;TZID=America/Denver:20260708T080000
DTEND;TZID=America/Denver:20260708T153000
DTSTAMP:20260421T052008
CREATED:20251014T192716Z
LAST-MODIFIED:20251014T192722Z
UID:10031643-1783497600-1783524600@thehubsheridan.org
SUMMARY:Billiards
DESCRIPTION:Monday – Friday\, 8am to 3:30pm\, $5 Voluntary Contribution\, Billiards Room
URL:https://thehubsheridan.org/event/billiards/2026-07-08/
LOCATION:The Hub on Smith\, 211 Smith Street\, Sheridan\, 82801
CATEGORIES:Community,Games,Lifelong Learning,Social
GEO:44.7995429;-106.9585407
X-APPLE-STRUCTURED-LOCATION;VALUE=URI;X-ADDRESS=The Hub on Smith 211 Smith Street Sheridan 82801;X-APPLE-RADIUS=500;X-TITLE=211 Smith Street:geo:-106.9585407,44.7995429
END:VEVENT
BEGIN:VEVENT
DTSTART;TZID=America/Denver:20260708T090000
DTEND;TZID=America/Denver:20260708T100000
DTSTAMP:20260421T052008
CREATED:20251014T181231Z
LAST-MODIFIED:20251014T181236Z
UID:10028697-1783501200-1783504800@thehubsheridan.org
SUMMARY:BOOM! Circuit Training
DESCRIPTION:Classes include low impact movements to improve cognitive abilities and increase overall strength\, cardio\, conditioning\, flexibility\, and balance. Chairs are available to help with stability during class. All levels are welcome to attend!  \n\n\n\nMonday\, Wednesday and Friday\, 9:00am to 9:50am\, $5 Voluntary Contribution\, Fitness Room
URL:https://thehubsheridan.org/event/boom-circuit-training/2026-07-08/
LOCATION:The Hub on Smith\, 211 Smith Street\, Sheridan\, 82801
CATEGORIES:Community,Health and Fitness,Lifelong Learning,Social
GEO:44.7995429;-106.9585407
X-APPLE-STRUCTURED-LOCATION;VALUE=URI;X-ADDRESS=The Hub on Smith 211 Smith Street Sheridan 82801;X-APPLE-RADIUS=500;X-TITLE=211 Smith Street:geo:-106.9585407,44.7995429
END:VEVENT
BEGIN:VEVENT
DTSTART;TZID=America/Denver:20260708T093000
DTEND;TZID=America/Denver:20260708T113000
DTSTAMP:20260421T052008
CREATED:20250307T213628Z
LAST-MODIFIED:20250307T213703Z
UID:10020037-1783503000-1783510200@thehubsheridan.org
SUMMARY:Cribbage
DESCRIPTION:The Hub Cafe
URL:https://thehubsheridan.org/event/cribbage-2/2026-07-08/
END:VEVENT
BEGIN:VEVENT
DTSTART;TZID=America/Denver:20260708T100000
DTEND;TZID=America/Denver:20260708T110000
DTSTAMP:20260421T052008
CREATED:20251014T182309Z
LAST-MODIFIED:20251014T182314Z
UID:10029480-1783504800-1783508400@thehubsheridan.org
SUMMARY:BAMM! Chair Exercise
DESCRIPTION:Moves focus on improving cardio\, strength\, balance\, and flexibility. The goal is to help participants maintain independence in daily life! Chairs are used to help with stability during class. All levels are welcome to attend. \n\n\n\nMonday\, Wednesday and Friday\, 10:00am to 10:50am\, $5 Voluntary Contribution\, Fitness Room
URL:https://thehubsheridan.org/event/bamm-chair-exercise/2026-07-08/
LOCATION:The Hub on Smith\, 211 Smith Street\, Sheridan\, 82801
CATEGORIES:Community,Health and Fitness,Lifelong Learning,Social
GEO:44.7995429;-106.9585407
X-APPLE-STRUCTURED-LOCATION;VALUE=URI;X-ADDRESS=The Hub on Smith 211 Smith Street Sheridan 82801;X-APPLE-RADIUS=500;X-TITLE=211 Smith Street:geo:-106.9585407,44.7995429
END:VEVENT
BEGIN:VEVENT
DTSTART;TZID=America/Denver:20260708T103000
DTEND;TZID=America/Denver:20260708T113000
DTSTAMP:20260421T052008
CREATED:20260225T201125Z
LAST-MODIFIED:20260225T203523Z
UID:10037594-1783506600-1783510200@thehubsheridan.org
SUMMARY:Tech Training with The Sheridan Press
DESCRIPTION:The Sheridan Press staff will be on site at The Hub on Smith to help with everyday technology questions.  Bring your device and get assistance with navigating your phone\, tablet\, or computer\, setting up apps and logging in to and reading The Sheridan Press’ digital content.  For questions or to schedule a one-on-one training\, contact Ashleigh Snoozy at 307-675-9968 or email ashleigh.snoozy@the sheridanpress.com \n\n\n\nUpcoming Dates: March 11 • April 8 • May 13 \n\n\n\n2nd Wednesday\, Monthly • 10:30 am – 11:30 am • Lobby
URL:https://thehubsheridan.org/event/tech-training-with-the-sheridan-press/2026-07-08/
CATEGORIES:Community,Lifelong Learning,Service
END:VEVENT
BEGIN:VEVENT
DTSTART;TZID=America/Denver:20260708T130000
DTEND;TZID=America/Denver:20260708T140000
DTSTAMP:20260421T052008
CREATED:20251014T185339Z
LAST-MODIFIED:20251014T185343Z
UID:10030784-1783515600-1783519200@thehubsheridan.org
SUMMARY:Table Tennis
DESCRIPTION:Monday\, Wednesday and Friday\, $5 Voluntary Contribution\, Fitness Room
URL:https://thehubsheridan.org/event/table-tennis/2026-07-08/
LOCATION:The Hub on Smith\, 211 Smith Street\, Sheridan\, 82801
CATEGORIES:Community,Games,Lifelong Learning,Social
GEO:44.7995429;-106.9585407
X-APPLE-STRUCTURED-LOCATION;VALUE=URI;X-ADDRESS=The Hub on Smith 211 Smith Street Sheridan 82801;X-APPLE-RADIUS=500;X-TITLE=211 Smith Street:geo:-106.9585407,44.7995429
END:VEVENT
BEGIN:VEVENT
DTSTART;TZID=America/Denver:20260709T080000
DTEND;TZID=America/Denver:20260709T100000
DTSTAMP:20260421T052008
CREATED:20260223T161931Z
LAST-MODIFIED:20260223T161935Z
UID:10036556-1783584000-1783591200@thehubsheridan.org
SUMMARY:Walking Club at the Y
DESCRIPTION:No need to be a member of the YMCA to participate. Mention you are a Registered Hub Patron at the YMCA’s Front Desk\, head to Gym 2\, and get your walk in!       \n\n\n\nTuesdays & Thursdays • 8:00 to 10:00 am • YMCA Gym 2
URL:https://thehubsheridan.org/event/walking-club-at-the-y/2026-07-09/
CATEGORIES:Community,Health and Fitness,Social
END:VEVENT
BEGIN:VEVENT
DTSTART;TZID=America/Denver:20260709T080000
DTEND;TZID=America/Denver:20260709T100000
DTSTAMP:20260421T052008
CREATED:20260408T184206Z
LAST-MODIFIED:20260408T184210Z
UID:10038102-1783584000-1783591200@thehubsheridan.org
SUMMARY:WALKING CLUB AT THE Y
DESCRIPTION:No YMCA membership required—just tell the front desk you’re a registered Hub Patron\, head to Gym 2 at the Sheridan YMCA\, and enjoy your indoor walk! \n\n\n\nTuesdays & Thursdays • 8:00 to 10:00 am • YMCA Gym 2
URL:https://thehubsheridan.org/event/walking-club-at-the-y-2/2026-07-09/
CATEGORIES:Health and Fitness
ATTACH;FMTTYPE=image/jpeg:https://thehubsheridan.org/wp-content/uploads/2026/04/Event-Page-Walking-Club-at-the-Y.jpg
END:VEVENT
BEGIN:VEVENT
DTSTART;TZID=America/Denver:20260709T080000
DTEND;TZID=America/Denver:20260709T153000
DTSTAMP:20260421T052008
CREATED:20251014T192716Z
LAST-MODIFIED:20251014T192722Z
UID:10031644-1783584000-1783611000@thehubsheridan.org
SUMMARY:Billiards
DESCRIPTION:Monday – Friday\, 8am to 3:30pm\, $5 Voluntary Contribution\, Billiards Room
URL:https://thehubsheridan.org/event/billiards/2026-07-09/
LOCATION:The Hub on Smith\, 211 Smith Street\, Sheridan\, 82801
CATEGORIES:Community,Games,Lifelong Learning,Social
GEO:44.7995429;-106.9585407
X-APPLE-STRUCTURED-LOCATION;VALUE=URI;X-ADDRESS=The Hub on Smith 211 Smith Street Sheridan 82801;X-APPLE-RADIUS=500;X-TITLE=211 Smith Street:geo:-106.9585407,44.7995429
END:VEVENT
BEGIN:VEVENT
DTSTART;TZID=America/Denver:20260709T130000
DTEND;TZID=America/Denver:20260709T150000
DTSTAMP:20260421T052008
CREATED:20241217T193810Z
LAST-MODIFIED:20241217T194923Z
UID:10017512-1783602000-1783609200@thehubsheridan.org
SUMMARY:Crocheting and Knitting
DESCRIPTION:Bring your latest project and work on it with friends. The multi-talented Donna Stubbs will be available to assist you if needed. Beginners are welcome! \nThursdays • 1:00-3:00 pm • $5 voluntary contribution • Art Studio
URL:https://thehubsheridan.org/event/crocheting-and-knitting/2026-07-09/
LOCATION:Hub Art Studio
CATEGORIES:Community,Creative Arts,Lifelong Learning,Social
GEO:44.799491;-106.9584142
END:VEVENT
BEGIN:VEVENT
DTSTART;TZID=America/Denver:20260709T130000
DTEND;TZID=America/Denver:20260709T150000
DTSTAMP:20260421T052008
CREATED:20250806T210002Z
LAST-MODIFIED:20250806T210006Z
UID:10027723-1783602000-1783609200@thehubsheridan.org
SUMMARY:Poker
DESCRIPTION:Thursdays\, 1:00pm to 3:00pm\, $5 Voluntary Contribution\, Dining Room
URL:https://thehubsheridan.org/event/poker-2/2026-07-09/
LOCATION:The Hub on Smith\, 211 Smith Street\, Sheridan\, 82801
CATEGORIES:Community,Games,Lifelong Learning,Social
GEO:44.7995429;-106.9585407
X-APPLE-STRUCTURED-LOCATION;VALUE=URI;X-ADDRESS=The Hub on Smith 211 Smith Street Sheridan 82801;X-APPLE-RADIUS=500;X-TITLE=211 Smith Street:geo:-106.9585407,44.7995429
END:VEVENT
BEGIN:VEVENT
DTSTART;TZID=America/Denver:20260709T173000
DTEND;TZID=America/Denver:20260709T183000
DTSTAMP:20260421T052008
CREATED:20241217T183759Z
LAST-MODIFIED:20241217T183759Z
UID:10014651-1783618200-1783621800@thehubsheridan.org
SUMMARY:Virtual Gentle-Stretching Yoga
DESCRIPTION:Donna Stubbs\, a Yoga practitioner with 20 years of experience\, leads this whole body\, mind\, and spirit class. The class meets on Zoom two times weekly. For information and to register contact Donna directly at donna@thefiberhouse.com or (307) 763–1974. \nThursdays 5:30 pm & Sundays 5:00 pm • voluntary contributions welcome • Zoom
URL:https://thehubsheridan.org/event/virtual-gentle-stretching-yoga/2026-07-09/
LOCATION:Zoom
CATEGORIES:Health and Fitness,Lifelong Learning,Social
END:VEVENT
BEGIN:VEVENT
DTSTART;TZID=America/Denver:20260710T080000
DTEND;TZID=America/Denver:20260710T153000
DTSTAMP:20260421T052008
CREATED:20251014T192716Z
LAST-MODIFIED:20251014T192722Z
UID:10031645-1783670400-1783697400@thehubsheridan.org
SUMMARY:Billiards
DESCRIPTION:Monday – Friday\, 8am to 3:30pm\, $5 Voluntary Contribution\, Billiards Room
URL:https://thehubsheridan.org/event/billiards/2026-07-10/
LOCATION:The Hub on Smith\, 211 Smith Street\, Sheridan\, 82801
CATEGORIES:Community,Games,Lifelong Learning,Social
GEO:44.7995429;-106.9585407
X-APPLE-STRUCTURED-LOCATION;VALUE=URI;X-ADDRESS=The Hub on Smith 211 Smith Street Sheridan 82801;X-APPLE-RADIUS=500;X-TITLE=211 Smith Street:geo:-106.9585407,44.7995429
END:VEVENT
BEGIN:VEVENT
DTSTART;TZID=America/Denver:20260710T090000
DTEND;TZID=America/Denver:20260710T100000
DTSTAMP:20260421T052008
CREATED:20251014T181231Z
LAST-MODIFIED:20251014T181236Z
UID:10028698-1783674000-1783677600@thehubsheridan.org
SUMMARY:BOOM! Circuit Training
DESCRIPTION:Classes include low impact movements to improve cognitive abilities and increase overall strength\, cardio\, conditioning\, flexibility\, and balance. Chairs are available to help with stability during class. All levels are welcome to attend!  \n\n\n\nMonday\, Wednesday and Friday\, 9:00am to 9:50am\, $5 Voluntary Contribution\, Fitness Room
URL:https://thehubsheridan.org/event/boom-circuit-training/2026-07-10/
LOCATION:The Hub on Smith\, 211 Smith Street\, Sheridan\, 82801
CATEGORIES:Community,Health and Fitness,Lifelong Learning,Social
GEO:44.7995429;-106.9585407
X-APPLE-STRUCTURED-LOCATION;VALUE=URI;X-ADDRESS=The Hub on Smith 211 Smith Street Sheridan 82801;X-APPLE-RADIUS=500;X-TITLE=211 Smith Street:geo:-106.9585407,44.7995429
END:VEVENT
BEGIN:VEVENT
DTSTART;TZID=America/Denver:20260710T090000
DTEND;TZID=America/Denver:20260710T110000
DTSTAMP:20260421T052008
CREATED:20260223T230510Z
LAST-MODIFIED:20260223T230810Z
UID:10026693-1783674000-1783681200@thehubsheridan.org
SUMMARY:Uke 'N Strum
DESCRIPTION:Come strum\, smile\, and make some music! All skill levels welcome\, and ukuleles are available to try during class – no uke required. Digital music and instructions available for fee\, or grab printed materials for a $10 fee. Contact Barb at 307-763-1507 with questions or to join. \n\n\n\nFridays • Beginners 9:00am • Jam Session 9:30am to 11:00am • \n\n\n\nAdditional Day Added • 1st Wed of the Month • 3:30 pm to 5:30 pm •  $5 voluntary contribution • Community Room 
URL:https://thehubsheridan.org/event/uke-n-strum-2/2026-07-10/
LOCATION:The Hub on Smith\, 211 Smith Street\, Sheridan\, 82801
CATEGORIES:Community,Lifelong Learning,Music,Social
GEO:44.7995429;-106.9585407
X-APPLE-STRUCTURED-LOCATION;VALUE=URI;X-ADDRESS=The Hub on Smith 211 Smith Street Sheridan 82801;X-APPLE-RADIUS=500;X-TITLE=211 Smith Street:geo:-106.9585407,44.7995429
END:VEVENT
BEGIN:VEVENT
DTSTART;TZID=America/Denver:20260710T093000
DTEND;TZID=America/Denver:20260710T120000
DTSTAMP:20260421T052008
CREATED:20251014T183839Z
LAST-MODIFIED:20251014T183843Z
UID:10030187-1783675800-1783684800@thehubsheridan.org
SUMMARY:Dominoes
DESCRIPTION:$5 Voluntary Contribution\, Dining Room
URL:https://thehubsheridan.org/event/dominoes/2026-07-10/
LOCATION:The Hub on Smith\, 211 Smith Street\, Sheridan\, 82801
CATEGORIES:Community,Games,Lifelong Learning,Social
GEO:44.7995429;-106.9585407
X-APPLE-STRUCTURED-LOCATION;VALUE=URI;X-ADDRESS=The Hub on Smith 211 Smith Street Sheridan 82801;X-APPLE-RADIUS=500;X-TITLE=211 Smith Street:geo:-106.9585407,44.7995429
END:VEVENT
BEGIN:VEVENT
DTSTART;TZID=America/Denver:20260710T100000
DTEND;TZID=America/Denver:20260710T110000
DTSTAMP:20260421T052008
CREATED:20251014T182309Z
LAST-MODIFIED:20251014T182314Z
UID:10029481-1783677600-1783681200@thehubsheridan.org
SUMMARY:BAMM! Chair Exercise
DESCRIPTION:Moves focus on improving cardio\, strength\, balance\, and flexibility. The goal is to help participants maintain independence in daily life! Chairs are used to help with stability during class. All levels are welcome to attend. \n\n\n\nMonday\, Wednesday and Friday\, 10:00am to 10:50am\, $5 Voluntary Contribution\, Fitness Room
URL:https://thehubsheridan.org/event/bamm-chair-exercise/2026-07-10/
LOCATION:The Hub on Smith\, 211 Smith Street\, Sheridan\, 82801
CATEGORIES:Community,Health and Fitness,Lifelong Learning,Social
GEO:44.7995429;-106.9585407
X-APPLE-STRUCTURED-LOCATION;VALUE=URI;X-ADDRESS=The Hub on Smith 211 Smith Street Sheridan 82801;X-APPLE-RADIUS=500;X-TITLE=211 Smith Street:geo:-106.9585407,44.7995429
END:VEVENT
BEGIN:VEVENT
DTSTART;TZID=America/Denver:20260710T130000
DTEND;TZID=America/Denver:20260710T140000
DTSTAMP:20260421T052008
CREATED:20251014T185339Z
LAST-MODIFIED:20251014T185343Z
UID:10030785-1783688400-1783692000@thehubsheridan.org
SUMMARY:Table Tennis
DESCRIPTION:Monday\, Wednesday and Friday\, $5 Voluntary Contribution\, Fitness Room
URL:https://thehubsheridan.org/event/table-tennis/2026-07-10/
LOCATION:The Hub on Smith\, 211 Smith Street\, Sheridan\, 82801
CATEGORIES:Community,Games,Lifelong Learning,Social
GEO:44.7995429;-106.9585407
X-APPLE-STRUCTURED-LOCATION;VALUE=URI;X-ADDRESS=The Hub on Smith 211 Smith Street Sheridan 82801;X-APPLE-RADIUS=500;X-TITLE=211 Smith Street:geo:-106.9585407,44.7995429
END:VEVENT
BEGIN:VEVENT
DTSTART;TZID=America/Denver:20260710T130000
DTEND;TZID=America/Denver:20260710T160000
DTSTAMP:20260421T052008
CREATED:20251125T225209Z
LAST-MODIFIED:20251125T225212Z
UID:10032982-1783688400-1783699200@thehubsheridan.org
SUMMARY:Stitch\, Please! Sewing Group
DESCRIPTION:Bring your own sewing machine and join us.  You are welcome to work on your own projects or share a project with the group! \n\n\n\nFridays • 1:00 to 4:00 pm • $5 voluntary contribution • Art Studio
URL:https://thehubsheridan.org/event/stitch-please-sewing-group/2026-07-10/
LOCATION:The Hub on Smith\, 211 Smith Street\, Sheridan\, 82801
CATEGORIES:Community,Creative Arts,Lifelong Learning,Social
GEO:44.7995429;-106.9585407
X-APPLE-STRUCTURED-LOCATION;VALUE=URI;X-ADDRESS=The Hub on Smith 211 Smith Street Sheridan 82801;X-APPLE-RADIUS=500;X-TITLE=211 Smith Street:geo:-106.9585407,44.7995429
END:VEVENT
BEGIN:VEVENT
DTSTART;TZID=America/Denver:20260711T083000
DTEND;TZID=America/Denver:20260711T153000
DTSTAMP:20260421T052008
CREATED:20251213T153058Z
LAST-MODIFIED:20251125T224405Z
UID:10032898-1783758600-1783783800@thehubsheridan.org
SUMMARY:Greeting Card Workshops
DESCRIPTION:Create lovely\, handcrafted cards utilizing special papers\, die cast stamps\, and additional unique techniques For more information contact instructor Heidi Roesler at 307-461-2328 (c) or 307-674-0444 (w) \nSecond Saturdays of the month • 8:30 to 3:30 pm • $10 fee per class paid to instructor • First Congregational Church
URL:https://thehubsheridan.org/event/greeting-card-workshops/2026-07-11/
LOCATION:Hub Art Studio
CATEGORIES:Creative Arts,Lifelong Learning,Social
GEO:44.799491;-106.9584142
END:VEVENT
BEGIN:VEVENT
DTSTART;TZID=America/Denver:20260713T080000
DTEND;TZID=America/Denver:20260713T090000
DTSTAMP:20260421T052008
CREATED:20260408T155329Z
LAST-MODIFIED:20260408T164316Z
UID:10026205-1783929600-1783933200@thehubsheridan.org
SUMMARY:Happy Feet Cardio Dance
DESCRIPTION:Dance your way to fitness with the fun\, talented Sherry Mercer! Learn coordinated dances\, laugh with friends\, and enjoy yourself. \n\n\n\nMondays & Wednesdays\, 8:00am – 9:00am\, $5 Voluntary Contribution\, Fitness Room
URL:https://thehubsheridan.org/event/happy-feet-cardio-dance-2/2026-07-13/
LOCATION:The Hub on Smith\, 211 Smith Street\, Sheridan\, 82801
CATEGORIES:Community,Health and Fitness,Lifelong Learning,Performing Arts,Social
ATTACH;FMTTYPE=image/jpeg:https://thehubsheridan.org/wp-content/uploads/2025/08/Event-Page-Happy-Feet.jpg
GEO:44.7995429;-106.9585407
X-APPLE-STRUCTURED-LOCATION;VALUE=URI;X-ADDRESS=The Hub on Smith 211 Smith Street Sheridan 82801;X-APPLE-RADIUS=500;X-TITLE=211 Smith Street:geo:-106.9585407,44.7995429
END:VEVENT
BEGIN:VEVENT
DTSTART;TZID=America/Denver:20260713T080000
DTEND;TZID=America/Denver:20260713T153000
DTSTAMP:20260421T052008
CREATED:20251014T192716Z
LAST-MODIFIED:20251014T192722Z
UID:10031646-1783929600-1783956600@thehubsheridan.org
SUMMARY:Billiards
DESCRIPTION:Monday – Friday\, 8am to 3:30pm\, $5 Voluntary Contribution\, Billiards Room
URL:https://thehubsheridan.org/event/billiards/2026-07-13/
LOCATION:The Hub on Smith\, 211 Smith Street\, Sheridan\, 82801
CATEGORIES:Community,Games,Lifelong Learning,Social
GEO:44.7995429;-106.9585407
X-APPLE-STRUCTURED-LOCATION;VALUE=URI;X-ADDRESS=The Hub on Smith 211 Smith Street Sheridan 82801;X-APPLE-RADIUS=500;X-TITLE=211 Smith Street:geo:-106.9585407,44.7995429
END:VEVENT
BEGIN:VEVENT
DTSTART;TZID=America/Denver:20260713T090000
DTEND;TZID=America/Denver:20260713T100000
DTSTAMP:20260421T052008
CREATED:20251014T181231Z
LAST-MODIFIED:20251014T181236Z
UID:10028699-1783933200-1783936800@thehubsheridan.org
SUMMARY:BOOM! Circuit Training
DESCRIPTION:Classes include low impact movements to improve cognitive abilities and increase overall strength\, cardio\, conditioning\, flexibility\, and balance. Chairs are available to help with stability during class. All levels are welcome to attend!  \n\n\n\nMonday\, Wednesday and Friday\, 9:00am to 9:50am\, $5 Voluntary Contribution\, Fitness Room
URL:https://thehubsheridan.org/event/boom-circuit-training/2026-07-13/
LOCATION:The Hub on Smith\, 211 Smith Street\, Sheridan\, 82801
CATEGORIES:Community,Health and Fitness,Lifelong Learning,Social
GEO:44.7995429;-106.9585407
X-APPLE-STRUCTURED-LOCATION;VALUE=URI;X-ADDRESS=The Hub on Smith 211 Smith Street Sheridan 82801;X-APPLE-RADIUS=500;X-TITLE=211 Smith Street:geo:-106.9585407,44.7995429
END:VEVENT
BEGIN:VEVENT
DTSTART;TZID=America/Denver:20260713T090000
DTEND;TZID=America/Denver:20260713T100000
DTSTAMP:20260421T052008
CREATED:20251211T194926Z
LAST-MODIFIED:20251211T194931Z
UID:10034201-1783933200-1783936800@thehubsheridan.org
SUMMARY:Music Makers Piano Lessons
DESCRIPTION:Have you always wanted to play the piano? Open to beginners and returning players who have a curiosity to play. Join Janet Ruleaux for an exciting interactive way to learn piano at any time. Two sessions are now available. Handicap accessible. Contact Janet at 307-752-5312 with questions or to sign up! \n\n\n\nMondays • 9:00 to 10:00 am or 10:00 to 11:00 am • $5 fee per class paid to instructor • Methodist Church
URL:https://thehubsheridan.org/event/music-makers-piano-lessons/2026-07-13/
CATEGORIES:Community,Creative Arts,Lifelong Learning,Music
END:VEVENT
BEGIN:VEVENT
DTSTART;TZID=America/Denver:20260713T100000
DTEND;TZID=America/Denver:20260713T110000
DTSTAMP:20260421T052008
CREATED:20251014T182309Z
LAST-MODIFIED:20251014T182314Z
UID:10029482-1783936800-1783940400@thehubsheridan.org
SUMMARY:BAMM! Chair Exercise
DESCRIPTION:Moves focus on improving cardio\, strength\, balance\, and flexibility. The goal is to help participants maintain independence in daily life! Chairs are used to help with stability during class. All levels are welcome to attend. \n\n\n\nMonday\, Wednesday and Friday\, 10:00am to 10:50am\, $5 Voluntary Contribution\, Fitness Room
URL:https://thehubsheridan.org/event/bamm-chair-exercise/2026-07-13/
LOCATION:The Hub on Smith\, 211 Smith Street\, Sheridan\, 82801
CATEGORIES:Community,Health and Fitness,Lifelong Learning,Social
GEO:44.7995429;-106.9585407
X-APPLE-STRUCTURED-LOCATION;VALUE=URI;X-ADDRESS=The Hub on Smith 211 Smith Street Sheridan 82801;X-APPLE-RADIUS=500;X-TITLE=211 Smith Street:geo:-106.9585407,44.7995429
END:VEVENT
BEGIN:VEVENT
DTSTART;TZID=America/Denver:20260713T100000
DTEND;TZID=America/Denver:20260713T110000
DTSTAMP:20260421T052008
CREATED:20251211T195315Z
LAST-MODIFIED:20251211T195319Z
UID:10034460-1783936800-1783940400@thehubsheridan.org
SUMMARY:Music Makers Piano Lessons
DESCRIPTION:
URL:https://thehubsheridan.org/event/music-makers-piano-lessons-2/2026-07-13/
CATEGORIES:Community,Creative Arts,Lifelong Learning,Music,Social
END:VEVENT
BEGIN:VEVENT
DTSTART;TZID=America/Denver:20260713T123000
DTEND;TZID=America/Denver:20260713T153000
DTSTAMP:20260421T052008
CREATED:20250806T205150Z
LAST-MODIFIED:20250806T205155Z
UID:10027208-1783945800-1783956600@thehubsheridan.org
SUMMARY:Double Deck Pinochle
DESCRIPTION:Mondays\, 12:30pm to 3:30pm\, $5 Voluntary Contribution\, Community Room
URL:https://thehubsheridan.org/event/double-deck-pinochle/2026-07-13/
LOCATION:The Hub on Smith\, 211 Smith Street\, Sheridan\, 82801
CATEGORIES:Community,Games,Lifelong Learning,Social
GEO:44.7995429;-106.9585407
X-APPLE-STRUCTURED-LOCATION;VALUE=URI;X-ADDRESS=The Hub on Smith 211 Smith Street Sheridan 82801;X-APPLE-RADIUS=500;X-TITLE=211 Smith Street:geo:-106.9585407,44.7995429
END:VEVENT
BEGIN:VEVENT
DTSTART;TZID=America/Denver:20260713T130000
DTEND;TZID=America/Denver:20260713T140000
DTSTAMP:20260421T052008
CREATED:20251014T185339Z
LAST-MODIFIED:20251014T185343Z
UID:10030786-1783947600-1783951200@thehubsheridan.org
SUMMARY:Table Tennis
DESCRIPTION:Monday\, Wednesday and Friday\, $5 Voluntary Contribution\, Fitness Room
URL:https://thehubsheridan.org/event/table-tennis/2026-07-13/
LOCATION:The Hub on Smith\, 211 Smith Street\, Sheridan\, 82801
CATEGORIES:Community,Games,Lifelong Learning,Social
GEO:44.7995429;-106.9585407
X-APPLE-STRUCTURED-LOCATION;VALUE=URI;X-ADDRESS=The Hub on Smith 211 Smith Street Sheridan 82801;X-APPLE-RADIUS=500;X-TITLE=211 Smith Street:geo:-106.9585407,44.7995429
END:VEVENT
END:VCALENDAR